BEGIN:VCALENDAR
VERSION:2.0
PRODID:-//Mattison Grey - ECPv6.15.18//NONSGML v1.0//EN
CALSCALE:GREGORIAN
METHOD:PUBLISH
X-WR-CALNAME:Mattison Grey
X-ORIGINAL-URL:https://www.mattisongrey.com
X-WR-CALDESC:Events for Mattison Grey
REFRESH-INTERVAL;VALUE=DURATION:PT1H
X-Robots-Tag:noindex
X-PUBLISHED-TTL:PT1H
BEGIN:VTIMEZONE
TZID:America/Chicago
BEGIN:DAYLIGHT
TZOFFSETFROM:-0600
TZOFFSETTO:-0500
TZNAME:CDT
DTSTART:20210314T080000
END:DAYLIGHT
BEGIN:STANDARD
TZOFFSETFROM:-0500
TZOFFSETTO:-0600
TZNAME:CST
DTSTART:20211107T070000
END:STANDARD
BEGIN:DAYLIGHT
TZOFFSETFROM:-0600
TZOFFSETTO:-0500
TZNAME:CDT
DTSTART:20220313T080000
END:DAYLIGHT
BEGIN:STANDARD
TZOFFSETFROM:-0500
TZOFFSETTO:-0600
TZNAME:CST
DTSTART:20221106T070000
END:STANDARD
BEGIN:DAYLIGHT
TZOFFSETFROM:-0600
TZOFFSETTO:-0500
TZNAME:CDT
DTSTART:20230312T080000
END:DAYLIGHT
BEGIN:STANDARD
TZOFFSETFROM:-0500
TZOFFSETTO:-0600
TZNAME:CST
DTSTART:20231105T070000
END:STANDARD
END:VTIMEZONE
BEGIN:VEVENT
DTSTART;TZID=America/Chicago:20220421T120000
DTEND;TZID=America/Chicago:20220421T130000
DTSTAMP:20260420T052317
CREATED:20220224T150553Z
LAST-MODIFIED:20221013T142647Z
UID:10000004-1650542400-1650546000@www.mattisongrey.com
SUMMARY:TED TALK Talk\, April 2022
DESCRIPTION:Our society is in the midst of a social crisis\, says a noted op-ed columnist and author. We’re trapped in a valley of isolation and fragmentation. How do we find our way out? Based on travels across the United States—and meetings with a range of exceptional people known as “weavers”—the speaker lays out a vision for a cultural revolution that empowers us all to lead lives of greater meaning\, purpose\, and joy. \nWe invite you to join Mattison for the April 2022 TED Talk Talk. \n\nTED Talk Talks are like a book club for TED Talks. Watch the TED Talk\, then join the virtual meeting to share your thoughts and observations. Mattison will facilitate the discussion\, but with all the smart people that like TED Talks\, it might get a little crazy. Like herding cats\, as they say. \n\nLearn more about TED Talk Talks\, or register now for upcoming sessions. \n Register
URL:https://www.mattisongrey.com/event/ted-talk-talk-april-2022/
LOCATION:Online via Zoom
CATEGORIES:TED TALK Talks
ATTACH;FMTTYPE=image/jpeg:https://www.mattisongrey.com/wp/wp-content/uploads/2022/02/Depositphotos_243925078_L.jpg
END:VEVENT
BEGIN:VEVENT
DTSTART;TZID=America/Chicago:20220317T120000
DTEND;TZID=America/Chicago:20220317T130000
DTSTAMP:20260420T052317
CREATED:20220119T162200Z
LAST-MODIFIED:20221013T142626Z
UID:10000003-1647518400-1647522000@www.mattisongrey.com
SUMMARY:TED TALK Talk\, March 2022
DESCRIPTION:Is the 10\,000-hour rule real? A head start doesn’t always…well\, help you get ahead. This TED Talk Talk discusses how specializing in a particular skill too early in life may undermine your long-term development. \nWe invite you to join Mattison for the March 2022 TED Talks Talk. \n\nTED Talk Talks are like a book club for TED Talks. Watch the TED Talk\, then join the virtual meeting to share your thoughts and observations. Mattison will facilitate the discussion\, but with all the smart people that like TED Talks\, it might get a little crazy. Like herding cats\, as they say. \n\nLearn more about TED Talk Talks\, or register now for upcoming sessions. \n Register
URL:https://www.mattisongrey.com/event/ted-talk-talk-march-2022/
LOCATION:Online via Zoom
CATEGORIES:TED TALK Talks
ATTACH;FMTTYPE=image/jpeg:https://www.mattisongrey.com/wp/wp-content/uploads/2022/01/Depositphotos_90729746_L.jpg
END:VEVENT
BEGIN:VEVENT
DTSTART;TZID=America/Chicago:20220217T120000
DTEND;TZID=America/Chicago:20220217T130000
DTSTAMP:20260420T052317
CREATED:20220119T161811Z
LAST-MODIFIED:20221013T142610Z
UID:10000002-1645099200-1645102800@www.mattisongrey.com
SUMMARY:TED TALK Talk\, February 2022
DESCRIPTION:We invite you to join Mattison for the February 2022 TED Talks Talk. \nTED Talk Talks are like a book club for TED Talks. Watch the TED Talk\, then join the virtual meeting to share your thoughts and observations. Mattison will facilitate the discussion\, but with all the smart people that like TED Talks\, it might get a little crazy. Like herding cats\, as they say. \nLearn more about TED Talks Talks\, or register now for upcoming sessions. \n Register
URL:https://www.mattisongrey.com/event/ted-talk-talk-february-2022/
LOCATION:Online via Zoom
CATEGORIES:TED TALK Talks
ATTACH;FMTTYPE=image/jpeg:https://www.mattisongrey.com/wp/wp-content/uploads/2022/01/Depositphotos_23823413_L.jpg
END:VEVENT
BEGIN:VEVENT
DTSTART;TZID=America/Chicago:20220120T120000
DTEND;TZID=America/Chicago:20220120T130000
DTSTAMP:20260420T052317
CREATED:20220107T202104Z
LAST-MODIFIED:20221013T142327Z
UID:10000001-1642680000-1642683600@www.mattisongrey.com
SUMMARY:TED TALK Talk\, January 2022
DESCRIPTION:Please join Mattison for the first TED Talks Talk of 2022! \nTED Talk Talks are like a book club for TED Talks. Watch the TED Talk\, then join the virtual meeting to share your thoughts and observations. Mattison will facilitate the discussion\, but with all the smart people that like TED Talks\, it might get a little crazy. Like herding cats\, as they say. \nLearn more about TED Talks Talks\, or register now for upcoming sessions. \n Register
URL:https://www.mattisongrey.com/event/su_ted_talk-talk-january-2022/
LOCATION:Online via Zoom
CATEGORIES:TED TALK Talks
ATTACH;FMTTYPE=image/jpeg:https://www.mattisongrey.com/wp/wp-content/uploads/2022/01/Depositphotos_68850203_L.jpg
END:VEVENT
END:VCALENDAR